BEGIN:VCALENDAR
VERSION:2.0
PRODID:-//Overeaters Anonymous San Fernando Valley - ECPv6.15.20//NONSGML v1.0//EN
CALSCALE:GREGORIAN
METHOD:PUBLISH
X-ORIGINAL-URL:https://oasfvalley.org
X-WR-CALDESC:Events for Overeaters Anonymous San Fernando Valley
REFRESH-INTERVAL;VALUE=DURATION:PT1H
X-Robots-Tag:noindex
X-PUBLISHED-TTL:PT1H
BEGIN:VTIMEZONE
TZID:America/Los_Angeles
BEGIN:DAYLIGHT
TZOFFSETFROM:-0800
TZOFFSETTO:-0700
TZNAME:PDT
DTSTART:20230312T100000
END:DAYLIGHT
BEGIN:STANDARD
TZOFFSETFROM:-0700
TZOFFSETTO:-0800
TZNAME:PST
DTSTART:20231105T090000
END:STANDARD
BEGIN:DAYLIGHT
TZOFFSETFROM:-0800
TZOFFSETTO:-0700
TZNAME:PDT
DTSTART:20240310T100000
END:DAYLIGHT
BEGIN:STANDARD
TZOFFSETFROM:-0700
TZOFFSETTO:-0800
TZNAME:PST
DTSTART:20241103T090000
END:STANDARD
BEGIN:DAYLIGHT
TZOFFSETFROM:-0800
TZOFFSETTO:-0700
TZNAME:PDT
DTSTART:20250309T100000
END:DAYLIGHT
BEGIN:STANDARD
TZOFFSETFROM:-0700
TZOFFSETTO:-0800
TZNAME:PST
DTSTART:20251102T090000
END:STANDARD
BEGIN:DAYLIGHT
TZOFFSETFROM:-0800
TZOFFSETTO:-0700
TZNAME:PDT
DTSTART:20260308T100000
END:DAYLIGHT
BEGIN:STANDARD
TZOFFSETFROM:-0700
TZOFFSETTO:-0800
TZNAME:PST
DTSTART:20261101T090000
END:STANDARD
BEGIN:DAYLIGHT
TZOFFSETFROM:-0800
TZOFFSETTO:-0700
TZNAME:PDT
DTSTART:20270314T100000
END:DAYLIGHT
BEGIN:STANDARD
TZOFFSETFROM:-0700
TZOFFSETTO:-0800
TZNAME:PST
DTSTART:20271107T090000
END:STANDARD
END:VTIMEZONE
BEGIN:VEVENT
DTSTART;TZID=America/Los_Angeles:20240601T120000
DTEND;TZID=America/Los_Angeles:20240601T130000
DTSTAMP:20260421T020341
CREATED:20240515T010725Z
LAST-MODIFIED:20240515T010727Z
UID:4316-1717243200-1717246800@oasfvalley.org
SUMMARY:Grief in Abstinence
DESCRIPTION:Join ZOOM MeetingMeeting ID: 853 1195 4977Passcode: 397537 \n\n\n\nWhat to expect: 3 speakers and time for Q&A
URL:https://oasfvalley.org/event/grief-in-abstinence/
LOCATION:Florida
CATEGORIES:Events
END:VEVENT
BEGIN:VEVENT
DTSTART;TZID=America/Los_Angeles:20240720T100000
DTEND;TZID=America/Los_Angeles:20240720T100000
DTSTAMP:20260421T020341
CREATED:20240627T201748Z
LAST-MODIFIED:20240730T183125Z
UID:4333-1721469600-1721469600@oasfvalley.org
SUMMARY:Serenity Hike at Solstice Canyon
DESCRIPTION:The site has limited parking so please try and carpool with a friend. \n\n\n\n2.1-mile hike round trip. Bring comfortable hiking shoes\, sunscreen\, & water. Pets are OK. \n\n\n\nFor 7th Tradition\, please mention the Serenity Hike when donating to your intergroup. \n\n\n\n\nMake a donation
URL:https://oasfvalley.org/event/serenity-hike-at-solstice-canyon/
LOCATION:Florida
CATEGORIES:Events
ORGANIZER;CN="Brian L.":MAILTO:intergroupdev@oasfvalley.org
END:VEVENT
BEGIN:VEVENT
DTSTART;TZID=America/Los_Angeles:20240824T110000
DTEND;TZID=America/Los_Angeles:20240824T123000
DTSTAMP:20260421T020341
CREATED:20240819T220118Z
LAST-MODIFIED:20240829T223708Z
UID:4372-1724497200-1724502600@oasfvalley.org
SUMMARY:Parenting in Abstinence Workshop
DESCRIPTION:3 Speakers // Q&A // Open Sharing // Recorded Event \n\n\n\nListen to the ZOOM Recording\n\n\n\nhttps://us02web.zoom.us/rec/share/Ramem4EKZlp6qmV_BOhz_hvXSa9umocLlYbuoZ98FPfeOX5lzUj_lKUuKt2dl6ha.AE9g7scEXxRf4r2WPasscode: UZrd0i4#
URL:https://oasfvalley.org/event/parenting-in-abstinence-workshop/
LOCATION:Florida
CATEGORIES:Events
END:VEVENT
BEGIN:VEVENT
DTSTART;TZID=America/Los_Angeles:20240915T110000
DTEND;TZID=America/Los_Angeles:20240915T130000
DTSTAMP:20260421T020341
CREATED:20240821T184706Z
LAST-MODIFIED:20240821T185133Z
UID:4376-1726398000-1726405200@oasfvalley.org
SUMMARY:Living the 7th Tradition - Zoom Workshop
DESCRIPTION:In this workshop\, we explore the Seventh Tradition of Alcoholics Anonymous: “Every A.A. group ought to be fully self-supporting declining outside contributions. “ We’ll delve into how this principle extends beyond our meetings and into our personal lives\, relationships\, and homes. Learn how practicing self-support—emotionally\, spiritually\, and financially—can empower us to cultivate healthier relationships\, set boundaries\, and live with greater independence and integrity. Join us for practical demonstrations and shared experiences on applying this tradition to all aspects of our lives. \n\n\n\nZOOM MEETINGMeeting ID: 827 6625 0383Passcode: 054267 \n\n\n\n\nDownload the flyer
URL:https://oasfvalley.org/event/living-the-7th-tradition-zoom-workshop/
LOCATION:Florida
CATEGORIES:Events
END:VEVENT
BEGIN:VEVENT
DTSTART;TZID=America/Los_Angeles:20241018T000000
DTEND;TZID=America/Los_Angeles:20241020T235959
DTSTAMP:20260421T020341
CREATED:20240819T212142Z
LAST-MODIFIED:20240930T022014Z
UID:4365-1729209600-1729468799@oasfvalley.org
SUMMARY:OA SFV 2024 Women's Retreat
DESCRIPTION:Healing the Hunger Within: Using the 12 Steps as a Recipe for Success\n\n\n\nDon’t miss this opportunity to embark on a journey of self-discovery and renewal with Overeaters Anonymous. Reserve your place today and take the first step towards a healthier\, happier you! \n\n\n\nEvent Highlights: \n\n\n\n\nEmpowering Workshops: Dive deep into the proven 12-step program with insightful activities and guided sessions tailored to calm the hunger within.\n\n\n\nNetworking Opportunities: Connect with like-minded women who share similar journeys and aspirations. Build meaningful relationships that support your path to wellness.\n\n\n\nInspiring Entertainment: Enjoy rejuvenating moments with entertaining activities that uplift and inspire\, enhancing your retreat experience.\n\n\n\n\n\nEnroll\n\n\n\nDownload the flyer
URL:https://oasfvalley.org/event/oa-sfv-2024-womens-retreat/
LOCATION:Holy Spirit Retreat Center\, 4316 Lanai Rd\, Encino\, California\, 91436
CATEGORIES:Events
END:VEVENT
BEGIN:VEVENT
DTSTART;TZID=America/Los_Angeles:20241116T180000
DTEND;TZID=America/Los_Angeles:20241116T193000
DTSTAMP:20260421T020341
CREATED:20241022T030232Z
LAST-MODIFIED:20241028T181733Z
UID:4406-1731780000-1731785400@oasfvalley.org
SUMMARY:Talent and Comedy Show
DESCRIPTION:OA San Fernando Valley presents a Zoom Event! \n\n\n\nBring your best jokes and talent to a spectacular evening of fun and laughter on Zoom! \n\n\n\nSpecial Guest MC \n\n\n\nMaximum 20 Performers (up to 5 minutes) – Performers must apply beforehand to intergroupdev@oasfvalley.org at least two weeks before the show. Slots will run out. \n\n\n\nTop comedy or talent wins a prize! \n\n\n\nTickets can be purchased on Eventbrite $10 per ticket plus small Eventbrite fee. \n\n\n\n \n\n\n\n\nDownload Flyer\n\n\n\nRegister for Event
URL:https://oasfvalley.org/event/talent-and-comedy-show/
LOCATION:Zoom Event
CATEGORIES:Events
END:VEVENT
BEGIN:VEVENT
DTSTART;TZID=America/Los_Angeles:20241128T070000
DTEND;TZID=America/Los_Angeles:20241128T200000
DTSTAMP:20260421T020341
CREATED:20241022T041543Z
LAST-MODIFIED:20241125T044441Z
UID:4431-1732777200-1732824000@oasfvalley.org
SUMMARY:THANKSGIVING MARATHON
DESCRIPTION:This is an annual tradition of service so that no member need be alone on this day. \n\n\n\nSouth Bay & San Fernando Valley Intergroups of OA host Back-to-Back meetings starting every hour. \n\n\n\nVirtual & In-person: Final meeting starts one hour before last hour in the ranges below. \n\n\n\nVirtual: 7am-8pm PST UTC-8ZOOM information:Zoom Link:https://us02web.zoom.us/j/85395009965?pwd=YRvFUhm7Xp0XNMLHJtRArnYLi70aWm.1Meeting ID: 853 9500 9965:Passcode: 883157or Dial: 1 669 900 9128\, ID:853 9500 9965\, Passcode: 883157To host a virtual meeting\, please take a group conscience at your meeting to pick from available slots. \n\n\n\n\nSign Up to Host a virtual meeting\n\n\n\nDownload Flyer\n\n\n\n\nIn Person:8am-2pm PST UTC-8Christ Lutheran Church 6500 E. Stearns St. Long Beach\, CA 90815Call Bearto for code: 562-843-2764 \n\n\n\n\nDonate to OA SF Valley\n\n\n\nDonate to OA South Bay
URL:https://oasfvalley.org/event/thanksgiving-marathon/
LOCATION:Florida
CATEGORIES:Events
END:VEVENT
BEGIN:VEVENT
DTSTART;TZID=America/Los_Angeles:20241128T080000
DTEND;TZID=America/Los_Angeles:20241128T110000
DTSTAMP:20260421T020341
CREATED:20241028T175908Z
LAST-MODIFIED:20241028T175911Z
UID:4446-1732780800-1732791600@oasfvalley.org
SUMMARY:Thanksgiving in the Park
DESCRIPTION:Presented by the OALAIG \n\n\n\n8am-8:30am Morning Meditation:Guided meditation focusing on gratitude and serenity. Bring a comfortable cushion\, pillow or blanket on which to sit. \n\n\n\n9am-11am Meeting: Celebrate recovery from compulsive eating with your OA family. We will have three main speakers and time for 3-minute pitches. \n\n\n\nJoin us for fellowship picnic afterwards – bring your own abstinent lunch. For questions or to offer service\, email events@oalaig.org or call 805-265-0174. \n\n\n\n\nDownload the flyer
URL:https://oasfvalley.org/event/thanksgiving-in-the-park/
LOCATION:Florida
CATEGORIES:Events
END:VEVENT
BEGIN:VEVENT
DTSTART;TZID=America/Los_Angeles:20241214T180000
DTEND;TZID=America/Los_Angeles:20241214T193000
DTSTAMP:20260421T020341
CREATED:20241203T040827Z
LAST-MODIFIED:20241203T042614Z
UID:4475-1734199200-1734204600@oasfvalley.org
SUMMARY:Candlelight Promises Meeting Workshop
DESCRIPTION:Candlelight Promises Meeting \n\n\n\nLight some candles and join us! Three speakers will share how the 12 promises are coming true through abstinence and the 12 steps. \n\n\n\nSeventh Tradition will be observed. \n\n\n\nOpen sharing and questions will be available. \n\n\n\nZoom Meeting:https://us02web.zoom.us/j/82931551193?pwd=X33t7LNSTkRWpCiN8k5vaBy98dxKny.1 \n\n\n\nMeeting ID: 829 3155 1193Passcode: 565248 \n\n\n\n\nDownload Flyer
URL:https://oasfvalley.org/event/candlelight-promises-meeting-workshop/
LOCATION:Florida
END:VEVENT
BEGIN:VEVENT
DTSTART;TZID=America/Los_Angeles:20250223T110000
DTEND;TZID=America/Los_Angeles:20250223T120000
DTSTAMP:20260421T020341
CREATED:20250121T035859Z
LAST-MODIFIED:20250206T023106Z
UID:4500-1740308400-1740312000@oasfvalley.org
SUMMARY:OA UNITY DAY
DESCRIPTION:COME CELEBRATE TRADITION 1 \n\n\n\nOUR COMMON WELFARE COMES FIRST;PERSONAL RECOVERY DEPENDS ON OA UNITY. \n\n\n\n7th Tradition will be observed. \n\n\n\nZOOM INFO:Meeting ID: 898 4545 7818Passcode: 214577
URL:https://oasfvalley.org/event/oa-unity-day/
LOCATION:Florida
CATEGORIES:Events
END:VEVENT
BEGIN:VEVENT
DTSTART;TZID=America/Los_Angeles:20250223T130000
DTEND;TZID=America/Los_Angeles:20250223T150000
DTSTAMP:20260421T020341
CREATED:20250121T034510Z
LAST-MODIFIED:20250206T023101Z
UID:4495-1740315600-1740322800@oasfvalley.org
SUMMARY:Fall in LOVE with the 12 steps workshop
DESCRIPTION:Z o o m I n f o :M e e t i n g I D : 8 1 7 0 0 7 0 8 3 1 2P a s s c o d e : 0 6 6 3 3 4 \n\n\n\nA true path to freedom \n\n\n\n7TH TRADITION OBSERVED WORK SHOP WILL BE RECORDED
URL:https://oasfvalley.org/event/fall-in-love-with-the-12-steps-workshop/
LOCATION:Florida
CATEGORIES:Events
END:VEVENT
BEGIN:VEVENT
DTSTART;TZID=America/Los_Angeles:20250315T180000
DTEND;TZID=America/Los_Angeles:20250315T193000
DTSTAMP:20260421T020341
CREATED:20250206T022550Z
LAST-MODIFIED:20250206T022839Z
UID:4512-1742061600-1742067000@oasfvalley.org
SUMMARY:Game & Trivia Night
DESCRIPTION:San Fernando Valley Intergroup presents a night of Fun\, Fellowship & Fundraising! Come join us for trivia\, laughter\, and prizes!! \n\n\n\nZoom on over to compete with your fellows for Top Prize as we gather to support the San Fernando Valley Intergroup of Overeaters Anonymous. You may purchase tickets for $10 each for attending\, or support us with any amount you like. \n\n\n\n\nPurchase Tickets\n\n\n\nDownload the flyer
URL:https://oasfvalley.org/event/game-trivia-night/
LOCATION:Florida
CATEGORIES:Events
ORGANIZER;CN="Brian L.":MAILTO:intergroupdev@oasfvalley.org
END:VEVENT
BEGIN:VEVENT
DTSTART;TZID=America/Los_Angeles:20250404T000000
DTEND;TZID=America/Los_Angeles:20250406T235959
DTSTAMP:20260421T020341
CREATED:20250218T014546Z
LAST-MODIFIED:20250326T032712Z
UID:4536-1743724800-1743983999@oasfvalley.org
SUMMARY:39th SoCal OA Men’s Retreat
DESCRIPTION:What do I get?\n\n\n\nA weekend of fellowship with other men in recovery in the tranquility of beautiful and spacious grounds \n\n\n\n\nRetreat leaders who have worked all 12 Steps andwant to help your recovery\n\n\n\nTwo (2) nights lodging and six meals\n\n\n\n\nWhat is the cost?$325 per man – single occupancy includes 6 meals$275 per man – double occupancy includes 6 meals \n\n\n\nCommuters (not staying overnight) Meal Prices:There are 6 meals Friday night dinner throughSunday lunch$65 per day – includes the three meals for that day)$150 for the weekend – includes all 6 meals for theweekend \n\n\n\nWhat do I get?\n\n\n\n\nA weekend of fellowship with other men in recovery in the tranquility of beautiful and spacious grounds\n\n\n\nRetreat leaders who have worked all 12 Steps andwant to help your recovery\n\n\n\nTwo (2) nights lodging and six meals\n\n\n\n\nWhen does it start?\n\n\n\nCheck in starts 4:30 Friday April 4Dinner starts at 600 pm Friday\, April 4.Opening ceremony begins at 700 pm Friday\, April 4. \n\n\n\nWhere is the location?4050 Mission AvenueOceanside\, CA 92057 United States760-757-3659 \n\n\n\nGot Questions? \n\n\n\nDave B.619-787-2937davebirge66@gmail.com\n\n\n\nGene K.760-859-7400genekogan1@gmail.com
URL:https://oasfvalley.org/event/4536/
LOCATION:Florida
CATEGORIES:Events
END:VEVENT
BEGIN:VEVENT
DTSTART;TZID=America/Los_Angeles:20250427T140000
DTEND;TZID=America/Los_Angeles:20250427T153000
DTSTAMP:20260421T020341
CREATED:20250318T030244Z
LAST-MODIFIED:20250326T032714Z
UID:4563-1745762400-1745767800@oasfvalley.org
SUMMARY:Spring Into Recovery Workshop
DESCRIPTION:ZOOMMeeting ID: 840 1147 7734Passcode: 990330
URL:https://oasfvalley.org/event/spring-into-recovery-workshop/
LOCATION:Florida
CATEGORIES:Events
END:VEVENT
BEGIN:VEVENT
DTSTART;TZID=America/Los_Angeles:20250614T070000
DTEND;TZID=America/Los_Angeles:20250614T070000
DTSTAMP:20260421T020341
CREATED:20250506T031325Z
LAST-MODIFIED:20250515T195749Z
UID:4581-1749884400-1749884400@oasfvalley.org
SUMMARY:Summer Walkathon Fundraiser
DESCRIPTION:Come and Help raise money for OA.  \n\n\n\nGet sponsored for eah walk around the lake!
URL:https://oasfvalley.org/event/summer-walkathon-fundraiser/
LOCATION:Lake Balboa Boat House\, 6300 Balboa Blvd\, Lake Balboa\, California\, 91406
CATEGORIES:Events
END:VEVENT
BEGIN:VEVENT
DTSTART;TZID=America/Los_Angeles:20250621T130000
DTEND;TZID=America/Los_Angeles:20250621T143000
DTSTAMP:20260421T020341
CREATED:20250515T194116Z
LAST-MODIFIED:20250515T194246Z
UID:4589-1750510800-1750516200@oasfvalley.org
SUMMARY:Service Is Its Own Reward Workshop
DESCRIPTION:Presented by Channel Islands Intergroup of Overeaters Anonymous \n\n\n\nAll are welcome\, no matter where you are in your recovery! Come discover how service can transform your recovery\, your fellowship\, and your life. \n\n\n\nSuggested 7th Tradition $5. No one turned away for lack of funds \n\n\n\nZoom Meeting ID: 764 663 562Text or Call: 805-940-3655 (for passcode) \n\n\n\n\nDownload the flyer
URL:https://oasfvalley.org/event/service-is-its-own-reward-workshop/
LOCATION:Florida
CATEGORIES:Events
END:VEVENT
BEGIN:VEVENT
DTSTART;TZID=America/Los_Angeles:20250711T000000
DTEND;TZID=America/Los_Angeles:20250713T235959
DTSTAMP:20260421T020341
CREATED:20250515T221917Z
LAST-MODIFIED:20250515T221918Z
UID:4597-1752192000-1752451199@oasfvalley.org
SUMMARY:2025 R2 Convention: Spotlight on the Basics
DESCRIPTION:100% in-person event produced by the Foothill Intergroup of Region 2. \n\n\n\n\nMore information\n\n\n\nDownload the flyer
URL:https://oasfvalley.org/event/2025-r2-convention-spotlight-on-the-basics/
LOCATION:Loews Hollywood Hotel\, 1755 Highland Ave\, Los Angeles\, California\, 90028
CATEGORIES:Events
END:VEVENT
BEGIN:VEVENT
DTSTART;TZID=America/Los_Angeles:20250810T140000
DTEND;TZID=America/Los_Angeles:20250810T153000
DTSTAMP:20260421T020341
CREATED:20250723T003804Z
LAST-MODIFIED:20250728T233335Z
UID:4615-1754834400-1754839800@oasfvalley.org
SUMMARY:Travel in Abstinence
DESCRIPTION:Come support OA SF Valley and hear from two fellows who have traveled the world in abstinence! \n\n\n\nZOOM ID: 882 7132 3005Passcode: 520476 \n\n\n\n7th tradition will be observed and workshop will be recorded. \n\n\n\n\nDownload the flyer
URL:https://oasfvalley.org/event/travel-in-abstinence/
LOCATION:Florida
CATEGORIES:Events
END:VEVENT
BEGIN:VEVENT
DTSTART;TZID=America/Los_Angeles:20250821T000000
DTEND;TZID=America/Los_Angeles:20250823T235959
DTSTAMP:20260421T020341
CREATED:20250805T210959Z
LAST-MODIFIED:20250805T211000Z
UID:4627-1755734400-1755993599@oasfvalley.org
SUMMARY:2025 OA World Service Convention
DESCRIPTION:Advance Registration is still OPEN!Register by July 31 at 11:59 p.m. MDT / UTC−6 for just $190 USD. \n\n\n\nOr register at the door!Onsite registration: $210 | Daily: $70 \n\n\n\nOur first Convention since 2016—we’d love to share it with you! \n\n\n\nFrom videoconference squares to folding chairs\, come hug the friends who’ve shared your journey—and make some new friends too! Enjoy the sunshine (and the air conditioning!) as you connect and explore beautiful Orlando. \n\n\n\nBegin your day with peaceful meditation\, then choose from 50+ recovery meetings and workshops. Connect in specific-focus sessions or use our “bring-your-own-meeting” space. Enjoy inspiring keynote speakers\, meaningful fellowship\, and an evening banquet followed by a lively\, fun-filled dance celebration. \n\n\n\n\nRegister now\n\n\n\nDownload the flyer
URL:https://oasfvalley.org/event/2025-oa-world-service-convention/
LOCATION:Renaissance Orlando at SeaWorld®\, 6677 Sea Harbor Drive\, Orlando\, Florida\, 32821
CATEGORIES:Events
END:VEVENT
BEGIN:VEVENT
DTSTART;TZID=America/Los_Angeles:20250910T193000
DTEND;TZID=America/Los_Angeles:20250910T193000
DTSTAMP:20260421T020341
CREATED:20250905T013130Z
LAST-MODIFIED:20250905T014147Z
UID:4661-1757532600-1757532600@oasfvalley.org
SUMMARY:Intergroup Merger Town Hall Zoom Meeting
DESCRIPTION:A Zoom Town Hall meeting about the Intergroup merger before the September 2025 vote to give the fellowship the opportunity to ask any questions\, and comments will be welcome. \n\n\n\nJOIN THE ZOOM:https://us02web.zoom.us/j/81322326953?pwd=4a23m7JWyRCBzh6D4PNQsu3BGIGTZm.1 \n\n\n\n\nExplanation Document\n\n\n\nPros & Cons List\n\n\n\n\n\n\n\n\nSubmit a Question\n\n\n\nYou may submit a question by emailing us at office@oasfvalley.org or fill out the form below. \n\n\n\n	Notice: JavaScript is required for this content.
URL:https://oasfvalley.org/event/intergroup-merger-town-hall-zoom-meeting/
LOCATION:Florida
CATEGORIES:Events
END:VEVENT
BEGIN:VEVENT
DTSTART;TZID=America/Los_Angeles:20251026T130000
DTEND;TZID=America/Los_Angeles:20251026T144500
DTSTAMP:20260421T020341
CREATED:20250916T235748Z
LAST-MODIFIED:20250916T235749Z
UID:4705-1761483600-1761489900@oasfvalley.org
SUMMARY:Freedom from the beDEVILments
DESCRIPTION:Come in your best HALLOWEEN costume. A winner will take home a special prize at the end of the workshop. \n\n\n\nHybrid Workshop. 7th tradition will be observed\, no one turned away for lack of funds. Workshop will be recorded. \n\n\n\nZOOM: 8896 117 4586Password: 275506 \n\n\n\n\nDownload the flyer
URL:https://oasfvalley.org/event/freedom-from-the-bedevilments/
LOCATION:Radford Hall\, 4849 Van Nuys Blvd.\, Suite 103\, Sherman Oaks\, California\, 91403
CATEGORIES:Events
END:VEVENT
BEGIN:VEVENT
DTSTART;TZID=America/Los_Angeles:20251107T160000
DTEND;TZID=America/Los_Angeles:20251109T120000
DTSTAMP:20260421T020341
CREATED:20250817T014442Z
LAST-MODIFIED:20250817T015016Z
UID:4635-1762531200-1762689600@oasfvalley.org
SUMMARY:Women's Retreat
DESCRIPTION:Open Hands\, Open Hearts: Giving and Receiving in OA Recovery\n\n\n\nCome join us for a rejuvenating weekend at the tranquil Holy Spirit Retreat Center in Encino on Friday\, November 7 – Sunday\, November 9\, 2025. THIS IS A THREE-DAY EVENT! \n\n\n\nThis retreat is specifically designed for women looking to connect\, share stories\, and support each other on their journey to recovery from eating disorders using a 12-step program. Learn how giving to others and receiving support will jumpstart your recovery. There will be many fun and interactive activities including 12 step-based workshops\, meditation\, nature walk\, speaker panel\, and evening entertainment. You will leave rejuvenated and with a plan for your success in recovery. \n\n\n\nAttendee reviews say that the annual OA SFV Women’s Retreat is the best retreat in Southern California and the site\, and accommodations are great! Don’t miss out! \n\n\n\n\n\n\n\nSingle Occupancy\, Double Occupancy\, and Commuter rates are available with 5 meals included. \n\n\n\nCheck in starts Friday at 4:00 for lodgers. Our evening event begins at 5:30 pm with a delicious\, healthy dinner. The retreat ends Sunday at 12 pm. We can’t wait to see you there! \n\n\n\n\nMore information\n\n\n\nDownload the flyer
URL:https://oasfvalley.org/event/2025-womens-retreat/
LOCATION:Holy Spirit Retreat Center\, 4316 Lanai Rd\, Encino\, California\, 91436
CATEGORIES:Events
END:VEVENT
BEGIN:VEVENT
DTSTART;TZID=America/Los_Angeles:20251116T130000
DTEND;TZID=America/Los_Angeles:20251116T144500
DTSTAMP:20260421T020341
CREATED:20250916T233655Z
LAST-MODIFIED:20250916T233707Z
UID:4696-1763298000-1763304300@oasfvalley.org
SUMMARY:Food Freedom Workshop
DESCRIPTION:The Women’s Sober Recovery Workshop – Learn What Food Sobriety Is\n\n\n\nJoin our hybrid workshop and learn how to gain food peace and freedom around food. \n\n\n\nZOOM: 832 1591 7624Password: 166704 \n\n\n\n\nDownload the flyer
URL:https://oasfvalley.org/event/food-freedom-workshop/
LOCATION:Radford Hall\, 4849 Van Nuys Blvd.\, Suite 103\, Sherman Oaks\, California\, 91403
CATEGORIES:Events
ORGANIZER;CN="Reva S.":MAILTO:reva.stark1@gmail.com
END:VEVENT
BEGIN:VEVENT
DTSTART;TZID=America/Los_Angeles:20251127T070000
DTEND;TZID=America/Los_Angeles:20251127T200000
DTSTAMP:20260421T020341
CREATED:20251030T183215Z
LAST-MODIFIED:20251201T002350Z
UID:4725-1764226800-1764273600@oasfvalley.org
SUMMARY:Thanksgiving Marathon Meetings 2025
DESCRIPTION:ZOOM information\n\n\n\n \n\n\n\n\nSign Up to Host a virtual meeting\n\n\n\nDownload Flyer
URL:https://oasfvalley.org/event/thanksgiving-marathon-meetings-2025/
LOCATION:Florida
CATEGORIES:Events
END:VEVENT
BEGIN:VEVENT
DTSTART;TZID=America/Los_Angeles:20251206T170000
DTEND;TZID=America/Los_Angeles:20251206T190000
DTSTAMP:20260421T020341
CREATED:20251123T054552Z
LAST-MODIFIED:20251202T040604Z
UID:4738-1765040400-1765047600@oasfvalley.org
SUMMARY:Karaoke Night-CANCELLED
DESCRIPTION:OA San Fernando Valley \n\n\n\nJoin us for a fun evening of music\, fellowship and community! DJ spinning all your favorite tracks! Abstinent dinner will be served  \n\n\n\n\n\n\n\n\nEvent Flyer
URL:https://oasfvalley.org/event/karaoke-night/
LOCATION:Winnetka Bowl\, 20122 Vanowen St.\, Winnetka\, California\, 91306
END:VEVENT
BEGIN:VEVENT
DTSTART;TZID=America/Los_Angeles:20251213T170000
DTEND;TZID=America/Los_Angeles:20251213T190000
DTSTAMP:20260421T020341
CREATED:20251123T061703Z
LAST-MODIFIED:20251202T192000Z
UID:4755-1765645200-1765652400@oasfvalley.org
SUMMARY:CANDLELIGHT PROMISES
DESCRIPTION:Come hear 6 incrediible speakers share on the promises. \n\n\n\nBring a candle to light up your square \n\n\n\n\n\nZOOM ID: 881 2598 0361PASSWORD: 820441
URL:https://oasfvalley.org/event/candlelight-promises/
LOCATION:Florida
CATEGORIES:Events
END:VEVENT
BEGIN:VEVENT
DTSTART;TZID=America/Los_Angeles:20260221T170000
DTEND;TZID=America/Los_Angeles:20260221T190000
DTSTAMP:20260421T020341
CREATED:20260119T212044Z
LAST-MODIFIED:20260216T231900Z
UID:4807-1771693200-1771700400@oasfvalley.org
SUMMARY:Karaoke Night
DESCRIPTION:OASFVI Presents DJ Hosted Karaoke Night at Lane 33 Lounge FUNDRAISEROverviewOASFVI Karaoke Night. Come join us for a fun-filled evening of singing your heart out at Lane 33 Bar & Grill! Our 1st “FUN-Raiser” for 2026! \n\n\n\nOASFVI Karaoke Night FUN-raiser!Come join us for a fun-filled evening of singing your heart out at Lane 33 Bar & Grill! A professional DJ will MC the show. Our Karaoke Night is the perfect opportunity to showcase your vocal talents or just enjoy some great music with friends and raise funds for our beloved San Fernando Valley Intergroup! \n\n\n\n\n\n\n\n\n\n\nDownload The Flyer
URL:https://oasfvalley.org/event/karaoke-night-2/
LOCATION:Lane 33 Bar & Grill at Winnetka Bowl\, 20122 Vanowen St\, Winnetka\, California\, 91306\, United States
CATEGORIES:Events
END:VEVENT
BEGIN:VEVENT
DTSTART;TZID=America/Los_Angeles:20260222T120000
DTEND;TZID=America/Los_Angeles:20260222T140000
DTSTAMP:20260421T020341
CREATED:20260129T235943Z
LAST-MODIFIED:20260301T175732Z
UID:4823-1771761600-1771768800@oasfvalley.org
SUMMARY:How I Found My Higher Power
DESCRIPTION:Meeting ID: 821 4397 4201 \n\n\n\nMeeting Passcode: 246810 \n\n\n\n\n\n\nDownload The Flyer
URL:https://oasfvalley.org/event/how-i-found-my-higher-power/
LOCATION:Florida
CATEGORIES:Events
END:VEVENT
BEGIN:VEVENT
DTSTART;TZID=America/Los_Angeles:20260228T111500
DTEND;TZID=America/Los_Angeles:20260228T121500
DTSTAMP:20260421T020341
CREATED:20260130T011324Z
LAST-MODIFIED:20260203T020439Z
UID:4829-1772277300-1772280900@oasfvalley.org
SUMMARY:World Unity Day
DESCRIPTION:Meeting ID: 842 7024 4687 \n\n\n\nMeeting Passcode: 420781 \n\n\n\n\n\n\nDownload The Flyer
URL:https://oasfvalley.org/event/world-unity-day/
LOCATION:Florida
CATEGORIES:Events
END:VEVENT
BEGIN:VEVENT
DTSTART;TZID=America/Los_Angeles:20260419T150000
DTEND;TZID=America/Los_Angeles:20260419T170000
DTSTAMP:20260421T020341
CREATED:20260217T042357Z
LAST-MODIFIED:20260331T035245Z
UID:4933-1776610800-1776618000@oasfvalley.org
SUMMARY:BINGO Night
DESCRIPTION:OASFVI Presents Virtual Bingo! \n\n\n\nOverviewOASFVI Karaoke Night. Come join us for a fun-filled afternoon of Virtual Bingo! \n\n\n\nPlease join us for another FUNdraiser for OASFV Intergroup to enjoy a fun afternoon of fellowship and prizes! We will be playing for donated prizes and to help support our intergroup. \n\n\n\n\n\n\n\n\n\n\nTo save the flyer as an image: right-click the image and select “Save As\,” or on a mobile device\, tap and hold the image and choose “Save to Photos” or “Download image” (depending on your device). o save the flyer as an image: right-click the image and choose “Save As\,” or on a mobile device\, tap and hold the image and select “Save to Photos” or “Download image” (depending on your device).  \nDownload The Flyer (PDF)
URL:https://oasfvalley.org/event/bingo-night/
LOCATION:Florida
CATEGORIES:Events
END:VEVENT
END:VCALENDAR